BEGIN:VCALENDAR
VERSION:2.0
PRODID:-//SportPlan//Event Calendar//EN
CALSCALE:GREGORIAN
BEGIN:VEVENT
UID:e43c36b9-dbb1-4855-9edd-fd56f80b5536@sportplan.local
DTSTAMP:20260420T210647Z
DTSTART;VALUE=DATE:20261108
DTEND;VALUE=DATE:20261109
SUMMARY:IRONMAN 70.3 Melbourne 2026
DESCRIPTION:IRONMAN 70.3 Melbourne 2026 is an official amateur middle-distance triathlon in St Kilda\, Melbourne\, Australia on 8 November 2026. The official IRONMAN event page presents a public-entry race experience in Melbourne with open registration\, a bay swim\, bike course\, and run course based in the St Kilda area.
LOCATION:St Kilda\, Melbourne
URL:https://sportplan.vercel.app/en/events/ironman-70-3-melbourne-2026-st-kilda-2026-11-08
END:VEVENT
END:VCALENDAR
