BEGIN:VCALENDAR
VERSION:2.0
PRODID:-//SportPlan//Event Calendar//EN
CALSCALE:GREGORIAN
BEGIN:VEVENT
UID:bfcc5584-7316-4fc4-a4ac-4230a7e1d1a9@sportplan.local
DTSTAMP:20260420T204432Z
DTSTART;VALUE=DATE:20260913
DTEND;VALUE=DATE:20260914
SUMMARY:IRONMAN 70.3 Erkner
DESCRIPTION:IRONMAN 70.3 Erkner is an official middle-distance triathlon in Erkner\, Germany on 13 September 2026. The canonical IRONMAN race page provides registration\, course\, schedule\, travel\, and host-city style event information for amateur participation.
LOCATION:Erkner\, Germany
URL:https://sportplan.vercel.app/en/events/ironman-70-3-erkner-2026-erkner-2026-09-13
END:VEVENT
END:VCALENDAR
