BEGIN:VCALENDAR
VERSION:2.0
PRODID:-//SportPlan//Event Calendar//EN
CALSCALE:GREGORIAN
BEGIN:VEVENT
UID:b2314587-4a8a-4a95-94e8-384e35ce2f93@sportplan.local
DTSTAMP:20260420T204221Z
DTSTART;VALUE=DATE:20260913
DTEND;VALUE=DATE:20260914
SUMMARY:IRONMAN 70.3 Dali
DESCRIPTION:IRONMAN 70.3 Dali is an official amateur triathlon debut event scheduled for 13 September 2026 in Dali\, China. The official IRONMAN race page lists open registration\, a lake swim\, flat bike and run courses\, and positions the race around Erhai Lake and Dali's Bai cultural setting.
LOCATION:Dali
URL:https://sportplan.vercel.app/en/events/ironman-70-3-dali-2026-09-13
END:VEVENT
END:VCALENDAR
