BEGIN:VCALENDAR
VERSION:2.0
PRODID:-//SportPlan//Event Calendar//EN
CALSCALE:GREGORIAN
BEGIN:VEVENT
UID:b7ecef44-3ccc-46ac-bf72-ada989e53058@sportplan.local
DTSTAMP:20260420T193938Z
DTSTART;VALUE=DATE:20260516
DTEND;VALUE=DATE:20260517
SUMMARY:ING Night Marathon Luxembourg
DESCRIPTION:The official ING Night Marathon Luxembourg site lists Marathon Day on 16 May 2026 in Luxembourg and presents the event as one of the few night marathons worldwide. The organizer describes participant options including the marathon\, half marathon\, team relay\, 5K Run For Success\, youth races\, and Roll&Run\, making it a clearly amateur-enterable mass-participation running event.
LOCATION:Luxembourg\, Luxembourg
URL:https://sportplan.vercel.app/en/events/ing-night-marathon-luxembourg-2026-05-16
END:VEVENT
END:VCALENDAR
