BEGIN:VCALENDAR
VERSION:2.0
PRODID:-//SportPlan//Event Calendar//EN
CALSCALE:GREGORIAN
BEGIN:VEVENT
UID:ffecba95-9988-47a7-8e3b-840fd6dcc599@sportplan.local
DTSTAMP:20260420T175558Z
DTSTART;VALUE=DATE:20260906
DTEND;VALUE=DATE:20260907
SUMMARY:III Aquatlo de Mação
DESCRIPTION:Official Federação de Triatlo de Portugal event page for III Aquatlo de Mação. The federation calendar shows the race on 6 September 2026 in Mação within the Litoral e Interior Centro programme\, supporting conservative inclusion as an official amateur aquathlon event.
LOCATION:Mação\, Santarém\, Portugal
URL:https://sportplan.vercel.app/en/events/iii-aquatlo-de-macao-macao-2026-09-06
END:VEVENT
END:VCALENDAR
