BEGIN:VCALENDAR
VERSION:2.0
PRODID:-//SportPlan//Event Calendar//EN
CALSCALE:GREGORIAN
BEGIN:VEVENT
UID:234b4ddb-1b7b-4f55-b528-4f19f73b3408@sportplan.local
DTSTAMP:20260420T192141Z
DTSTART;VALUE=DATE:20260516
DTEND;VALUE=DATE:20260517
SUMMARY:III 10K y 5K Nocturno Run Addiction — 5K Run Addiction 5K
DESCRIPTION:III 10K y 5K Nocturno Run Addiction — 5K Run Addiction 5K se celebra el 16 de mayo de 2026 en Castellón de la Plana. La prueba recorre 5 km. Ideal para participantes que quieren disfrutar del recorrido\, el ambiente del evento y una jornada activa.
LOCATION:Castellón de la Plana
URL:https://sportplan.vercel.app/en/events/iii-10k-y-5k-nocturno-run-addiction-5k-run-addiction-5k-castellon-de-la-plana-2026-05-16
END:VEVENT
END:VCALENDAR
