BEGIN:VCALENDAR
VERSION:2.0
PRODID:-//SportPlan//Event Calendar//EN
CALSCALE:GREGORIAN
BEGIN:VEVENT
UID:4b560e59-e565-4770-bde4-0cee9e0e28dc@sportplan.local
DTSTAMP:20260420T191904Z
DTSTART;VALUE=DATE:20260509
DTEND;VALUE=DATE:20260510
SUMMARY:II Andaina 50km Vila de Cuntis — Andaina Longa
DESCRIPTION:II Andaina 50km Vila de Cuntis — Andaina Longa se celebra el 9 mayo 2026 en Cuntis\, ofreciendo una cita ideal para participantes que buscan una experiencia bien organizada y con ambiente deportivo. El evento propone un recorrido con un recorrido claramente señalizado\, pensado para disfrutar del entorno\, mantener un buen ritmo y compartir la jornada con otros asistentes.
LOCATION:Cuntis
URL:https://sportplan.vercel.app/en/events/ii-andaina-50km-vila-de-cuntis-andaina-longa-cuntis-2026-05-09
END:VEVENT
END:VCALENDAR
