BEGIN:VCALENDAR
VERSION:2.0
PRODID:-//SportPlan//Event Calendar//EN
CALSCALE:GREGORIAN
BEGIN:VEVENT
UID:aa354939-4f90-42ad-b33d-245450a89563@sportplan.local
DTSTAMP:20260420T175558Z
DTSTART;VALUE=DATE:20260904
DTEND;VALUE=DATE:20260907
SUMMARY:HYROX Tenerife 2026
DESCRIPTION:HYROX Tenerife 2026 is a three-day mass-participation HYROX race and season-opening Canary Islands event. The official HYROX page provides dates\, image\, and canonical event URL for an amateur-enterable race weekend.
LOCATION:Tenerife
URL:https://sportplan.vercel.app/en/events/hyrox-tenerife-2026-2026-09-04
END:VEVENT
END:VCALENDAR
