BEGIN:VCALENDAR
VERSION:2.0
PRODID:-//SportPlan//Event Calendar//EN
CALSCALE:GREGORIAN
BEGIN:VEVENT
UID:c5219707-1b26-4510-890a-5d9d98203136@sportplan.local
DTSTAMP:20260420T191748Z
DTSTART;VALUE=DATE:20261023
DTEND;VALUE=DATE:20261026
SUMMARY:HYROX Tampa 2026
DESCRIPTION:HYROX Tampa 2026 is a three-day mass-participation HYROX race in the United States. The official HYROX event page lists 23-25 October 2026\, frames it as the brand's first Tampa competition\, and explicitly positions it for elite athletes\, everyday competitors\, and first-timers.
LOCATION:Tampa
URL:https://sportplan.vercel.app/en/events/hyrox-tampa-2026-2026-10-23
END:VEVENT
END:VCALENDAR
