BEGIN:VCALENDAR
VERSION:2.0
PRODID:-//SportPlan//Event Calendar//EN
CALSCALE:GREGORIAN
BEGIN:VEVENT
UID:081a3ca8-322d-4bbc-83af-d9ca19069ef5@sportplan.local
DTSTAMP:20260420T204316Z
DTSTART;VALUE=DATE:20261031
DTEND;VALUE=DATE:20261102
SUMMARY:HYROX Shanghai 2026
DESCRIPTION:HYROX Shanghai 2026 is a two-day mass-participation HYROX race in Shanghai. The official event page lists the dates\, the Shanghai World Expo Exhibition & Convention Center venue\, and frames the weekend as an open fitness race for athletes and spectators.
LOCATION:Shanghai World Expo Exhibition & Convention Center
URL:https://sportplan.vercel.app/en/events/hyrox-shanghai-2026-2026-10-31
END:VEVENT
END:VCALENDAR
