BEGIN:VCALENDAR
VERSION:2.0
PRODID:-//SportPlan//Event Calendar//EN
CALSCALE:GREGORIAN
BEGIN:VEVENT
UID:e6f1c133-ae9c-489a-b565-1fca1be12ff7@sportplan.local
DTSTAMP:20260420T180155Z
DTSTART;VALUE=DATE:20260501
DTEND;VALUE=DATE:20260504
SUMMARY:HYROX Lisboa 2026
DESCRIPTION:HYROX Lisboa 2026 is an official mass-participation fitness race weekend in Lisbon\, Portugal. The official HYROX event page and official HYROX Find My Race calendar list the event for 1 to 3 May 2026 in Lisbon\, with public ticketing and the standard HYROX singles\, doubles\, and relay race formats for amateur participants.
LOCATION:FIL - Feira Internacional de Lisboa
URL:https://sportplan.vercel.app/en/events/hyrox-lisboa-2026-2026-05-01
END:VEVENT
END:VCALENDAR
