BEGIN:VCALENDAR
VERSION:2.0
PRODID:-//SportPlan//Event Calendar//EN
CALSCALE:GREGORIAN
BEGIN:VEVENT
UID:a8216edf-96cd-44b8-b26f-e5c60591d592@sportplan.local
DTSTAMP:20260420T175544Z
DTSTART;VALUE=DATE:20261001
DTEND;VALUE=DATE:20261005
SUMMARY:HYROX Karlsruhe 2026
DESCRIPTION:HYROX Karlsruhe 2026 is a four-day mass-participation HYROX race at Messe Karlsruhe. The official event page provides dates and full venue details for an amateur-enterable hybrid fitness event in Germany.
LOCATION:Rheinstetten
URL:https://sportplan.vercel.app/en/events/hyrox-karlsruhe-2026-2026-10-01
END:VEVENT
END:VCALENDAR
