BEGIN:VCALENDAR
VERSION:2.0
PRODID:-//SportPlan//Event Calendar//EN
CALSCALE:GREGORIAN
BEGIN:VEVENT
UID:cb978b26-2078-41cc-a3e8-6beb02413f8b@sportplan.local
DTSTAMP:20260420T175545Z
DTSTART;VALUE=DATE:20260704
DTEND;VALUE=DATE:20260705
SUMMARY:HYROX Hangzhou 2026
DESCRIPTION:HYROX Hangzhou 2026 is an official mass-participation HYROX fitness race in Hangzhou\, China. The official event page offers standard HYROX athlete registration flexibility and race information for the Hangzhou event\, indicating an open participation format rather than an invite-only competition.
LOCATION:Qianjiang Century City
URL:https://sportplan.vercel.app/en/events/hyrox-hangzhou-2026-2026-07-04
END:VEVENT
END:VCALENDAR
