BEGIN:VCALENDAR
VERSION:2.0
PRODID:-//SportPlan//Event Calendar//EN
CALSCALE:GREGORIAN
BEGIN:VEVENT
UID:ec7f363c-0763-44c5-8f99-a3b41765a86a@sportplan.local
DTSTAMP:20260420T205939Z
DTSTART;VALUE=DATE:20261111
DTEND;VALUE=DATE:20261112
SUMMARY:HYROX Dublin 2026
DESCRIPTION:HYROX Dublin 2026 is an official mass-participation HYROX fitness race in Dublin\, Ireland. The official event page presents the Dublin race as a public HYROX event at the RDS\, with athlete registration options and standard HYROX participation logistics for individual and doubles competitors.
LOCATION:Royal Dublin Society (RDS)
URL:https://sportplan.vercel.app/en/events/hyrox-dublin-2026-2026-11-11
END:VEVENT
END:VCALENDAR
