BEGIN:VCALENDAR
VERSION:2.0
PRODID:-//SportPlan//Event Calendar//EN
CALSCALE:GREGORIAN
BEGIN:VEVENT
UID:9c7396eb-0144-4d19-92cb-2fb51c664660@sportplan.local
DTSTAMP:20260420T234332Z
DTSTART;VALUE=DATE:20261114
DTEND;VALUE=DATE:20261115
SUMMARY:Hyrox Budapest 2026
DESCRIPTION:Official HYROX global organizer site. During this repair pass\, no Budapest-specific 2026 event page was present in HYROX's public site/sitemap\, so the canonical official organizer home page is retained and the image remains blank pending a city-specific official page.
LOCATION:Budapest\, Budapest
URL:https://sportplan.vercel.app/en/events/hyrox-budapest-2026-budapest-2026-11-14
END:VEVENT
END:VCALENDAR
