BEGIN:VCALENDAR
VERSION:2.0
PRODID:-//SportPlan//Event Calendar//EN
CALSCALE:GREGORIAN
BEGIN:VEVENT
UID:e80fa462-cb28-4766-9aa7-63ef93743267@sportplan.local
DTSTAMP:20260420T203823Z
DTSTART;VALUE=DATE:20261027
DTEND;VALUE=DATE:20261102
SUMMARY:HYROX Birmingham 2026
DESCRIPTION:HYROX Birmingham 2026 is a six-day mass-participation HYROX race at the NEC in Birmingham. The official event page includes dates and venue details for an amateur-enterable event in the UK.
LOCATION:Birmingham
URL:https://sportplan.vercel.app/en/events/hyrox-birmingham-2026-2026-10-27
END:VEVENT
END:VCALENDAR
