BEGIN:VCALENDAR
VERSION:2.0
PRODID:-//SportPlan//Event Calendar//EN
CALSCALE:GREGORIAN
BEGIN:VEVENT
UID:4f258842-477f-4330-9c7d-93616f9821cd@sportplan.local
DTSTAMP:20260420T194833Z
DTSTART;VALUE=DATE:20261024
DTEND;VALUE=DATE:20261025
SUMMARY:Hyrox Athens 2026
DESCRIPTION:
LOCATION:Athens\, Attica
URL:https://sportplan.vercel.app/en/events/hyrox-athens-2026-athens-2026-10-24
END:VEVENT
END:VCALENDAR
