BEGIN:VCALENDAR
VERSION:2.0
PRODID:-//SportPlan//Event Calendar//EN
CALSCALE:GREGORIAN
BEGIN:VEVENT
UID:06cf5d07-07df-4db1-b878-303776dc59c8@sportplan.local
DTSTAMP:20260420T191652Z
DTSTART;VALUE=DATE:20261204
DTEND;VALUE=DATE:20261207
SUMMARY:HYROX Anaheim 2026
DESCRIPTION:HYROX Anaheim 2026 is a three-day mass-participation HYROX race in the United States. The official HYROX event page lists 4-6 December 2026 and presents the weekend as an open race for returning athletes as well as first-time participants.
LOCATION:Anaheim
URL:https://sportplan.vercel.app/en/events/hyrox-anaheim-2026-2026-12-04
END:VEVENT
END:VCALENDAR
