BEGIN:VCALENDAR
VERSION:2.0
PRODID:-//SportPlan//Event Calendar//EN
CALSCALE:GREGORIAN
BEGIN:VEVENT
UID:61cefd98-c008-4c05-8ac4-4b026ecff500@sportplan.local
DTSTAMP:20260421T004848Z
DTSTART;VALUE=DATE:20260517
DTEND;VALUE=DATE:20260518
SUMMARY:Huntly Half Marathon
DESCRIPTION:discovered via Brave web_search on direct World's Marathons New Zealand event pages\; NZ had 8 queue entries before this run and was selected to expand Oceania coverage
LOCATION:Huntly\, New Zealand
URL:https://sportplan.vercel.app/en/events/huntly-half-marathon-2026-05-17
END:VEVENT
END:VCALENDAR
