BEGIN:VCALENDAR
VERSION:2.0
PRODID:-//SportPlan//Event Calendar//EN
CALSCALE:GREGORIAN
BEGIN:VEVENT
UID:67bbcca4-a887-41b9-b8a0-9c339676ce7e@sportplan.local
DTSTAMP:20260420T211600Z
DTSTART;VALUE=DATE:20260824
DTEND;VALUE=DATE:20260831
SUMMARY:Hoka UTMB Mont-Blanc — UTMB 171K
DESCRIPTION:Hoka UTMB Mont-Blanc — UTMB 171K aura lieu le 24 août 2026 à Chamonix\, Haute-Savoie. C'est un rendez-vous idéal pour les participants à la recherche d'un défi bien organisé en FR\, avec une ambiance motivante du début à la fin. Avec une distance d'environ 171 km\, l'événement propose une expérience sportive attractive pour les habitués comme pour ceux qui veulent se fixer un nouvel objectif.
LOCATION:Chamonix\, Haute-Savoie
URL:https://sportplan.vercel.app/en/events/hoka-utmb-mont-blanc-utmb-171k-chamonix-2026-08-24
END:VEVENT
END:VCALENDAR
