BEGIN:VCALENDAR
VERSION:2.0
PRODID:-//SportPlan//Event Calendar//EN
CALSCALE:GREGORIAN
BEGIN:VEVENT
UID:a411024d-4978-4495-9bd6-39ad614ab689@sportplan.local
DTSTAMP:20260420T211511Z
DTSTART;VALUE=DATE:20260829
DTEND;VALUE=DATE:20260830
SUMMARY:Hoka UTMB Mont-Blanc — Mcc 40K
DESCRIPTION:Hoka UTMB Mont-Blanc — Mcc 40K aura lieu le 29 août 2026 à Chamonix\, Haute-Savoie. C'est un rendez-vous idéal pour les participants et leurs proches à la recherche d'une ambiance sportive et bien organisée. La distance annoncée est de 40 km.
LOCATION:Chamonix\, Haute-Savoie
URL:https://sportplan.vercel.app/en/events/hoka-utmb-mont-blanc-mcc-40k-chamonix-2026-08-29
END:VEVENT
END:VCALENDAR
