BEGIN:VCALENDAR
VERSION:2.0
PRODID:-//SportPlan//Event Calendar//EN
CALSCALE:GREGORIAN
BEGIN:VEVENT
UID:86e289ef-7ed8-45a2-98c7-de37a8240ab0@sportplan.local
DTSTAMP:20260420T204604Z
DTSTART;VALUE=DATE:20260514
DTEND;VALUE=DATE:20260518
SUMMARY:HOKA ULTRA-TRAIL AUSTRALIA
DESCRIPTION:
LOCATION:Sídney
URL:https://sportplan.vercel.app/en/events/hoka-ultra-trail-australia-sidney-2026-05-14
END:VEVENT
END:VCALENDAR
