BEGIN:VCALENDAR
VERSION:2.0
PRODID:-//SportPlan//Event Calendar//EN
CALSCALE:GREGORIAN
BEGIN:VEVENT
UID:1b7a40eb-9eb4-448e-a7e9-042de2b0e79f@sportplan.local
DTSTAMP:20260420T203835Z
DTSTART;VALUE=DATE:20260531
DTEND;VALUE=DATE:20260601
SUMMARY:HiPRO Utrecht Marathon
DESCRIPTION:HiPRO Utrecht Marathon is een evenement dat plaatsvindt op 2026-05-31 in Utrecht\, Netherlands. Het is een goede keuze voor deelnemers die een goed georganiseerd sportmoment zoeken. Het evenement past zowel bij ervaren deelnemers als bij mensen die eens iets nieuws willen proberen.
LOCATION:Utrecht\, Netherlands
URL:https://sportplan.vercel.app/en/events/hipro-utrecht-marathon-2026-05-31
END:VEVENT
END:VCALENDAR
