BEGIN:VCALENDAR
VERSION:2.0
PRODID:-//SportPlan//Event Calendar//EN
CALSCALE:GREGORIAN
BEGIN:VEVENT
UID:726fe1d3-392e-43d2-bb83-2b4ac424eecb@sportplan.local
DTSTAMP:20260420T234128Z
DTSTART;VALUE=DATE:20260703
DTEND;VALUE=DATE:20260705
SUMMARY:Hell160
DESCRIPTION:Hell160 acontecerá em 3 de julho de 2026 em Beja. É uma ótima opção para participantes que procuram uma experiência esportiva bem organizada e um ambiente motivador. Consulte as informações oficiais do evento para ver horários\, percurso e detalhes logísticos.
LOCATION:Beja
URL:https://sportplan.vercel.app/en/events/hell160-beja-2026-07-03
END:VEVENT
END:VCALENDAR
