BEGIN:VCALENDAR
VERSION:2.0
PRODID:-//SportPlan//Event Calendar//EN
CALSCALE:GREGORIAN
BEGIN:VEVENT
UID:50ac6bb3-0e36-446e-9147-b5695e6a0bba@sportplan.local
DTSTAMP:20260420T193600Z
DTSTART;VALUE=DATE:20260503
DTEND;VALUE=DATE:20260504
SUMMARY:Hamilton Island Hilly Half Marathon
DESCRIPTION:Hamilton Island Hilly Half Marathon takes place in Hamilton Island on May 3\, 2026\, offering participants a great chance to enjoy the atmosphere of race day in this destination. The route distance is to be confirmed. Expect an energizing event environment\, local support on site\, and a course suited to both dedicated runners and motivated newcomers.
LOCATION:Hamilton Island
URL:https://sportplan.vercel.app/en/events/hamilton-island-hilly-half-marathon-hamilton-island-2026-05-03
END:VEVENT
END:VCALENDAR
