BEGIN:VCALENDAR
VERSION:2.0
PRODID:-//SportPlan//Event Calendar//EN
CALSCALE:GREGORIAN
BEGIN:VEVENT
UID:9882c340-6c91-4f61-9d33-68001323a3fa@sportplan.local
DTSTAMP:20260420T204143Z
DTSTART;VALUE=DATE:20260628
DTEND;VALUE=DATE:20260629
SUMMARY:Hakodate Marathon
DESCRIPTION:Hakodate Marathonは2026-06-28にHakodate (JPN)で開催されます。 魅力的なロケーションで、参加しやすいスポーツイベントとして楽しめます。 記録を狙う人にも、イベントの雰囲気を楽しみたい人にもおすすめです。
LOCATION:Hakodate (JPN)
URL:https://sportplan.vercel.app/en/events/hakodate-marathon-2026-06-28
END:VEVENT
END:VCALENDAR
