BEGIN:VCALENDAR
VERSION:2.0
PRODID:-//SportPlan//Event Calendar//EN
CALSCALE:GREGORIAN
BEGIN:VEVENT
UID:2326280b-f55f-495e-8344-7a89415fa86b@sportplan.local
DTSTAMP:20260420T204522Z
DTSTART;VALUE=DATE:20260920
DTEND;VALUE=DATE:20260921
SUMMARY:Grigne Skymarathon
DESCRIPTION:Grigne Skymarathon si svolgerà il 20 settembre 2026 a Pasturo\, Lecco\, Lombardía. È un’ottima occasione per vivere una giornata di corsa con un percorso di 42 km e un’atmosfera perfetta per vivere la gara. Perfetta sia per chi punta alla prestazione sia per chi vuole godersi percorso e atmosfera dell’evento.
LOCATION:Pasturo\, Lecco\, Lombardía
URL:https://sportplan.vercel.app/en/events/grigne-skymarathon-pasturo-2026-09-20-42k
END:VEVENT
END:VCALENDAR
