BEGIN:VCALENDAR
VERSION:2.0
PRODID:-//SportPlan//Event Calendar//EN
CALSCALE:GREGORIAN
BEGIN:VEVENT
UID:7cd21273-bb7d-44c5-8103-10046acacde6@sportplan.local
DTSTAMP:20260420T204523Z
DTSTART;VALUE=DATE:20260621
DTEND;VALUE=DATE:20260622
SUMMARY:Green Lake Triathlon 2026
DESCRIPTION:Green Lake Triathlon 2026 is an official Bosnia and Herzegovina federation triathlon at Lisičići on Jablaničko jezero on 21 June 2026. The federation's 2026 events post lists it as an international competition with Olympic and sprint triathlon formats\, and as the Bosnia and Herzegovina Olympic-distance championship\, organized by TK Feniks Sarajevo.
LOCATION:Lisičići\, Jablaničko jezero
URL:https://sportplan.vercel.app/en/events/green-lake-triathlon-lisicici-2026-06-21
END:VEVENT
END:VCALENDAR
