BEGIN:VCALENDAR
VERSION:2.0
PRODID:-//SportPlan//Event Calendar//EN
CALSCALE:GREGORIAN
BEGIN:VEVENT
UID:ce2c1f15-675a-4ffc-89a6-e049ad197b46@sportplan.local
DTSTAMP:20260420T192028Z
DTSTART;VALUE=DATE:20261018
DTEND;VALUE=DATE:20261019
SUMMARY:Great South Run 10m 2026
DESCRIPTION:
LOCATION:Portsmouth\, England
URL:https://sportplan.vercel.app/en/events/great-south-run-10m-2026-portsmouth-2026-10-18
END:VEVENT
END:VCALENDAR
