BEGIN:VCALENDAR
VERSION:2.0
PRODID:-//SportPlan//Event Calendar//EN
CALSCALE:GREGORIAN
BEGIN:VEVENT
UID:27868dd5-3293-4c36-8c3f-ceb3788b08ea@sportplan.local
DTSTAMP:20260420T175413Z
DTSTART;VALUE=DATE:20261004
DTEND;VALUE=DATE:20261005
SUMMARY:Great Scottish Run Half-Marathon & 10K
DESCRIPTION:discovered via World's Marathons sitemap and validated on direct event page\; Tier 2 underrepresented-country rotation (UK/IE)
LOCATION:Glasgow\, United Kingdom
URL:https://sportplan.vercel.app/en/events/great-scottish-run-half-marathon-10k-2026-10-04
END:VEVENT
END:VCALENDAR
