BEGIN:VCALENDAR
VERSION:2.0
PRODID:-//SportPlan//Event Calendar//EN
CALSCALE:GREGORIAN
BEGIN:VEVENT
UID:095a24f7-8310-46b1-bcdc-962bd92df60c@sportplan.local
DTSTAMP:20260420T180440Z
DTSTART;VALUE=DATE:20260516
DTEND;VALUE=DATE:20260518
SUMMARY:Great Ocean Road Running Festival
DESCRIPTION:
LOCATION:Lorne
URL:https://sportplan.vercel.app/en/events/great-ocean-road-running-festival-lorne-2026-05-16
END:VEVENT
END:VCALENDAR
