BEGIN:VCALENDAR
VERSION:2.0
PRODID:-//SportPlan//Event Calendar//EN
CALSCALE:GREGORIAN
BEGIN:VEVENT
UID:2485d5c3-1fc9-4036-8ecb-1f282410ef7c@sportplan.local
DTSTAMP:20260420T210430Z
DTSTART;VALUE=DATE:20260503
DTEND;VALUE=DATE:20260504
SUMMARY:Great Limerick Run Half 2026
DESCRIPTION:Official Great Limerick Run site for the 2026 half marathon on 3 May in Limerick. The event weekend is organizer-run and amateur-enterable\, with participant information and race branding published on the official site.
LOCATION:Limerick\, Munster
URL:https://sportplan.vercel.app/en/events/great-limerick-run-half-2026-limerick-2026-05-03
END:VEVENT
END:VCALENDAR
