BEGIN:VCALENDAR
VERSION:2.0
PRODID:-//SportPlan//Event Calendar//EN
CALSCALE:GREGORIAN
BEGIN:VEVENT
UID:47e5c127-bb97-4b29-b799-990174157aa6@sportplan.local
DTSTAMP:20260420T181108Z
DTSTART;VALUE=DATE:20260613
DTEND;VALUE=DATE:20260614
SUMMARY:Gravel Valpadana Attraverso i parchi del Serio e Adda
DESCRIPTION:Gravel Valpadana Attraverso i parchi del Serio e Adda si svolge a Ripalta Arpina il 13 giugno 2026. Questa gara offre un’esperienza ben organizzata per i runner\, ideale per i runner che cercano una sfida ben definita. È un’ottima occasione per vivere l’atmosfera dell’evento\, mettersi alla prova sul percorso e godersi una giornata di sport a Ripalta Arpina.
LOCATION:Ripalta Arpina
URL:https://sportplan.vercel.app/en/events/gravel-valpadana-attraverso-i-parchi-del-serio-e-adda-ripalta-arpina-2026-06-13
END:VEVENT
END:VCALENDAR
