BEGIN:VCALENDAR
VERSION:2.0
PRODID:-//SportPlan//Event Calendar//EN
CALSCALE:GREGORIAN
BEGIN:VEVENT
UID:eff8fa37-d65a-4d4b-8941-6f2109488df5@sportplan.local
DTSTAMP:20260420T180548Z
DTSTART;VALUE=DATE:20260607
DTEND;VALUE=DATE:20260608
SUMMARY:Gravel Maestrazgo Adventure
DESCRIPTION:Gravel Maestrazgo Adventure se celebrará en Morella el 7 de junio de 2026. Una cita ideal para disfrutar del ambiente del evento con un recorrido de 160 km y compartir una experiencia deportiva bien organizada. Perfecto tanto para participantes que buscan superarse como para quienes quieren vivir una jornada activa en un entorno especial.
LOCATION:Morella
URL:https://sportplan.vercel.app/en/events/gravel-maestrazgo-adventure-morella-2026-06-07
END:VEVENT
END:VCALENDAR
