BEGIN:VCALENDAR
VERSION:2.0
PRODID:-//SportPlan//Event Calendar//EN
CALSCALE:GREGORIAN
BEGIN:VEVENT
UID:05a4b692-111a-455b-b6cd-08405a1a0525@sportplan.local
DTSTAMP:20260420T204532Z
DTSTART;VALUE=DATE:20260816
DTEND;VALUE=DATE:20260817
SUMMARY:Gran Fondo Svendborg 2026
DESCRIPTION:Gran Fondo Svendborg 2026 is an amateur road-cycling qualifier in Svendborg\, Denmark on 16 August 2026. The official UCI Gran Fondo World Series page presents a public-participation weekend on Funen with a 157 km granfondo and a 77 km mediofondo on rolling Danish roads.
LOCATION:Svendborg
URL:https://sportplan.vercel.app/en/events/gran-fondo-svendborg-2026-svendborg-2026-08-16
END:VEVENT
END:VCALENDAR
