BEGIN:VCALENDAR
VERSION:2.0
PRODID:-//SportPlan//Event Calendar//EN
CALSCALE:GREGORIAN
BEGIN:VEVENT
UID:1910befd-5c11-408e-b6fa-fec5e71d4ec2@sportplan.local
DTSTAMP:20260420T193643Z
DTSTART;VALUE=DATE:20260607
DTEND;VALUE=DATE:20260608
SUMMARY:Gran Fondo Novi Sad 2026
DESCRIPTION:Gran Fondo Novi Sad 2026 is an amateur UCI Gran Fondo World Series road race through Fruška Gora National Park\, with 100 km and 77 km routes starting and finishing in central Novi Sad.
LOCATION:Novi Sad
URL:https://sportplan.vercel.app/en/events/gran-fondo-novi-sad-2026-2026-06-07
END:VEVENT
END:VCALENDAR
