BEGIN:VCALENDAR
VERSION:2.0
PRODID:-//SportPlan//Event Calendar//EN
CALSCALE:GREGORIAN
BEGIN:VEVENT
UID:d5708017-97f8-43b8-975a-f001c66ead12@sportplan.local
DTSTAMP:20260420T180301Z
DTSTART;VALUE=DATE:20260514
DTEND;VALUE=DATE:20260518
SUMMARY:GoodLife HYROX Ottawa 2026
DESCRIPTION:GoodLife HYROX Ottawa 2026 is an official mass-participation HYROX fitness race weekend in Ottawa\, Canada. The official HYROX event page lists 14 to 17 May 2026 at the EY Centre and frames the debut Ottawa edition as open both to seasoned HYROX athletes and to people stepping onto the course for the first time.
LOCATION:EY Centre
URL:https://sportplan.vercel.app/en/events/goodlife-hyrox-ottawa-2026-2026-05-14
END:VEVENT
END:VCALENDAR
