BEGIN:VCALENDAR
VERSION:2.0
PRODID:-//SportPlan//Event Calendar//EN
CALSCALE:GREGORIAN
BEGIN:VEVENT
UID:825f689d-24bd-45ff-ad4a-3e2ebf186c35@sportplan.local
DTSTAMP:20260420T204722Z
DTSTART;VALUE=DATE:20260426
DTEND;VALUE=DATE:20260427
SUMMARY:Golden Trail Series - Great Wall Race
DESCRIPTION:
LOCATION:Chengde
URL:https://sportplan.vercel.app/en/events/golden-trail-series-great-wall-race-chengde-2026-04-26-24-2k
END:VEVENT
END:VCALENDAR
