BEGIN:VCALENDAR
VERSION:2.0
PRODID:-//SportPlan//Event Calendar//EN
CALSCALE:GREGORIAN
BEGIN:VEVENT
UID:3c1ca891-163d-440e-a886-c3701ad56e0a@sportplan.local
DTSTAMP:20260420T204249Z
DTSTART;VALUE=DATE:20260704
DTEND;VALUE=DATE:20260705
SUMMARY:Gold Coast Marathon
DESCRIPTION:Discovered via RunCalendar Australia marathons listing.
LOCATION:Gold Coast\, QLD\, Australia
URL:https://sportplan.vercel.app/en/events/gold-coast-marathon-2026-07-04
END:VEVENT
END:VCALENDAR
