BEGIN:VCALENDAR
VERSION:2.0
PRODID:-//SportPlan//Event Calendar//EN
CALSCALE:GREGORIAN
BEGIN:VEVENT
UID:45227e10-cf59-411d-ba84-3461344c5b8b@sportplan.local
DTSTAMP:20260420T193451Z
DTSTART;VALUE=DATE:20260606
DTEND;VALUE=DATE:20260607
SUMMARY:Gökçeada Ultra Trail - Race Info
DESCRIPTION:Official race-information page with registration windows and schedule.
LOCATION:Gökçeada\, Türkiye
URL:https://sportplan.vercel.app/en/events/gokceada-ultra-trail-race-info-2026-06-06
END:VEVENT
END:VCALENDAR
