BEGIN:VCALENDAR
VERSION:2.0
PRODID:-//SportPlan//Event Calendar//EN
CALSCALE:GREGORIAN
BEGIN:VEVENT
UID:0a38c7a6-4987-40f6-a030-d81c3f4e788f@sportplan.local
DTSTAMP:20260420T191810Z
DTSTART;VALUE=DATE:20261206
DTEND;VALUE=DATE:20261207
SUMMARY:GFNY San Luis Potosí 2026
DESCRIPTION:GFNY San Luis Potosí 2026 is an amateur road-cycling gran fondo in San Luis Potosí\, Mexico on 6 December 2026. The official GFNY San Luis Potosí event site publishes the 2026 race date in the page header\, describes an open mass-participation road race starting in the historic center of San Luis Potosí\, and outlines both long-course competition and medium-course participation formats.
LOCATION:San Luis Potosí
URL:https://sportplan.vercel.app/en/events/gfny-san-luis-potosi-2026-12-06
END:VEVENT
END:VCALENDAR
