BEGIN:VCALENDAR
VERSION:2.0
PRODID:-//SportPlan//Event Calendar//EN
CALSCALE:GREGORIAN
BEGIN:VEVENT
UID:69af5d3a-575b-418e-81af-bc390b3e53f9@sportplan.local
DTSTAMP:20260420T210340Z
DTSTART;VALUE=DATE:20270307
DTEND;VALUE=DATE:20270308
SUMMARY:GFNY Puerto Rico 2027
DESCRIPTION:GFNY Puerto Rico 2027 is an amateur road-cycling gran fondo in Ponce\, Puerto Rico on 7 March 2027. The official GFNY Puerto Rico event site places the event in Ponce with race operations centered on the Hotel Ponce Hilton and describes an open long-route and medium-route format riding from the southern coast through Santa Isabel\, Salinas\, and back toward Ponce.
LOCATION:Ponce
URL:https://sportplan.vercel.app/en/events/gfny-puerto-rico-2027-2027-03-07
END:VEVENT
END:VCALENDAR
