BEGIN:VCALENDAR
VERSION:2.0
PRODID:-//SportPlan//Event Calendar//EN
CALSCALE:GREGORIAN
BEGIN:VEVENT
UID:f6f77152-cb56-4b8b-8139-2d880b90606f@sportplan.local
DTSTAMP:20260420T192547Z
DTSTART;VALUE=DATE:20260503
DTEND;VALUE=DATE:20260504
SUMMARY:Genova Trail
DESCRIPTION:Genova Trail si svolge a Génova il 3 maggio 2026\, offrendo un'ottima occasione per vivere l'atmosfera della gara in questa destinazione. La distanza del percorso è ancora da confermare. È previsto un evento coinvolgente\, con supporto locale e un percorso adatto sia ai runner abituali sia a chi cerca una nuova sfida.
LOCATION:Génova
URL:https://sportplan.vercel.app/en/events/genova-trail-genova-2026-05-03
END:VEVENT
END:VCALENDAR
