BEGIN:VCALENDAR
VERSION:2.0
PRODID:-//SportPlan//Event Calendar//EN
CALSCALE:GREGORIAN
BEGIN:VEVENT
UID:c9f0e094-f896-4ef9-b21a-d9345733ba1d@sportplan.local
DTSTAMP:20260420T204200Z
DTSTART;VALUE=DATE:20261004
DTEND;VALUE=DATE:20261005
SUMMARY:Generali Cologne Half Marathon
DESCRIPTION:official event page\; Tier 2 country scout
LOCATION:Cologne\, Germany
URL:https://sportplan.vercel.app/en/events/generali-cologne-half-marathon-2026-10-04
END:VEVENT
END:VCALENDAR
