BEGIN:VCALENDAR
VERSION:2.0
PRODID:-//SportPlan//Event Calendar//EN
CALSCALE:GREGORIAN
BEGIN:VEVENT
UID:ee1593ec-3634-47c5-bf3f-9480a9b76d84@sportplan.local
DTSTAMP:20260421T010252Z
DTSTART;VALUE=DATE:20260628
DTEND;VALUE=DATE:20260629
SUMMARY:Gazley Volkswagen Wellington Marathon\, Half Marathon\, 10K
DESCRIPTION:
LOCATION:Wellington
URL:https://sportplan.vercel.app/en/events/gazley-volkswagen-wellington-marathon-half-marathon-10k-wellington-2026-06-28
END:VEVENT
END:VCALENDAR
