BEGIN:VCALENDAR
VERSION:2.0
PRODID:-//SportPlan//Event Calendar//EN
CALSCALE:GREGORIAN
BEGIN:VEVENT
UID:b44a036b-a879-413d-b490-a25bafe1435a@sportplan.local
DTSTAMP:20260421T010140Z
DTSTART;VALUE=DATE:20260628
DTEND;VALUE=DATE:20260629
SUMMARY:Gazley Volkswagen Wellington Marathon\, Half Marathon\, 10k
DESCRIPTION:discovered via Brave web_search on direct World's Marathons New Zealand event pages\; NZ had 8 queue entries before this run and was selected to expand Oceania coverage
LOCATION:Wellington\, New Zealand
URL:https://sportplan.vercel.app/en/events/gazley-volkswagen-wellington-marathon-half-marathon-10k-2026-06-28
END:VEVENT
END:VCALENDAR
