BEGIN:VCALENDAR
VERSION:2.0
PRODID:-//SportPlan//Event Calendar//EN
CALSCALE:GREGORIAN
BEGIN:VEVENT
UID:9eaef72d-2969-4aaa-80c5-32776fcd34f3@sportplan.local
DTSTAMP:20260421T010207Z
DTSTART;VALUE=DATE:20260628
DTEND;VALUE=DATE:20260629
SUMMARY:Gazley Volkswagen Wellington Marathon 2026
DESCRIPTION:Official event site confirmed live 200 OK\; 28 June 2026\; distances 42K marathon\, 21K half\, 10K\, Kids' Magic Mile\; hosted at Hnry Stadium\; flat fast fabulous course\; NZ first standalone discovery run
LOCATION:Wellington\, New Zealand
URL:https://sportplan.vercel.app/en/events/gazley-volkswagen-wellington-marathon-2026-2026-06-28
END:VEVENT
END:VCALENDAR
