BEGIN:VCALENDAR
VERSION:2.0
PRODID:-//SportPlan//Event Calendar//EN
CALSCALE:GREGORIAN
BEGIN:VEVENT
UID:27a47bcf-5c53-4e54-a894-6c1d5830abf6@sportplan.local
DTSTAMP:20260420T222656Z
DTSTART;VALUE=DATE:20270221
DTEND;VALUE=DATE:20270222
SUMMARY:Gatineau Loppet Free 27K 2027
DESCRIPTION:Gatineau Loppet Free 27K is an official mass-participation cross-country ski race in Gatineau\, Québec\, Canada on 21 February 2027. The official Gatineau Loppet 2027 weekend page lists the 27 km free-technique race on Sunday 21 February 2027\, and the official event page presents it as a public race with registration and participant services for amateur skiers.
LOCATION:Gatineau\, Québec\, Canada
URL:https://sportplan.vercel.app/en/events/gatineau-loppet-free-27k-2027-gatineau-2027-02-21
END:VEVENT
END:VCALENDAR
