BEGIN:VCALENDAR
VERSION:2.0
PRODID:-//SportPlan//Event Calendar//EN
CALSCALE:GREGORIAN
BEGIN:VEVENT
UID:cc6bcf52-6fbf-4e5c-bb21-48434cc71800@sportplan.local
DTSTAMP:20260420T175545Z
DTSTART;VALUE=DATE:20260620
DTEND;VALUE=DATE:20260621
SUMMARY:Garmin Triathlon Paris
DESCRIPTION:Garmin Triathlon Paris aura lieu le 20 juin 2026 à Paris\, dans un cadre idéal pour profiter pleinement de l'événement. Avec une distance d'environ 40 km\, ce rendez-vous conviendra aussi bien aux participants réguliers qu'à celles et ceux qui souhaitent relever un nouveau défi.
LOCATION:Paris
URL:https://sportplan.vercel.app/en/events/garmin-triathlon-paris-paris-2026-06-20
END:VEVENT
END:VCALENDAR
