BEGIN:VCALENDAR
VERSION:2.0
PRODID:-//SportPlan//Event Calendar//EN
CALSCALE:GREGORIAN
BEGIN:VEVENT
UID:3f400141-bebf-43eb-9490-3b121a891c26@sportplan.local
DTSTAMP:20260420T204757Z
DTSTART;VALUE=DATE:20261212
DTEND;VALUE=DATE:20261215
SUMMARY:Gaoligong By UTMB 160K 2026
DESCRIPTION:Gaoligong By UTMB 160K 2026 is scheduled for December 12\, 2026 at Tengchong\, Yunnan. It is a solid option for people who want to experience the event live and plan their day in advance. The listed venue is about 160 km away\, so it helps to check access\, timing\, and on-site amenities before heading out.
LOCATION:Tengchong\, Yunnan
URL:https://sportplan.vercel.app/en/events/gaoligong-by-utmb-160k-2026-tengchong-2026-12-12
END:VEVENT
END:VCALENDAR
